BEGIN:VCALENDAR
VERSION:2.0
PRODID:-//wp-events-plugin.com//6.6.3//EN
TZID:Europe/Rome
X-WR-TIMEZONE:Europe/Rome
BEGIN:VEVENT
UID:0-535@parrocchietrentonord.diocesitn.it
DTSTART;TZID=Europe/Rome:20191025T203000
DTEND;TZID=Europe/Rome:20191025T233000
DTSTAMP:20190929T080446Z
URL:https://parrocchietrentonord.diocesitn.it/events/parrocchia-missione-f
 uturo/
SUMMARY:Parrocchia: Missione & Futuro
DESCRIPTION:Tavola rotonda\nPer un confronto sullo sviluppo della pastorale
  in un’ottica missionaria: che cosa può offrire l’esperienza della mi
 ssione? Che cosa significa vivere la vita della parrocchia con uno spirito
 \nmissionario?\nCon i coniugi Luisa e Lorenzo Mussi dell’Operazione Mato
  Grosso\,\npadre Fausto Beretta missionario comboniano\,\ndon Michele Vulc
 an\, parroco a Trento\n\nModera il confronto Piergiorgio Franceschini\n\nA
 priranno la serata le video-interviste ad alcuni\ngiovani su Gesù.
LOCATION:Sala della cooperazione\, Via Giovanni Segantini\, 10\, Trento\, T
 rentino-Alto Adige\, 38122\, Territorio Val d'Adige\, Italia
GEO:46.0753401;11.1221426
X-APPLE-STRUCTURED-LOCATION;VALUE=URI;X-ADDRESS=Via Giovanni Segantini\, 10
 \, Trento\, Trentino-Alto Adige\, 38122\, Territorio Val d'Adige\, Italia;
 X-APPLE-RADIUS=100;X-TITLE=Sala della cooperazione:geo:46.0753401,11.12214
 26
END:VEVENT
BEGIN:VTIMEZONE
TZID:Europe/Rome
X-LIC-LOCATION:Europe/Rome
BEGIN:DAYLIGHT
DTSTART:20190331T030000
TZOFFSETFROM:+0100
TZOFFSETTO:+0200
TZNAME:CEST
END:DAYLIGHT
END:VTIMEZONE
END:VCALENDAR